BEGIN:VCALENDAR
PRODID:-//eluceo/ical//2.0/EN
VERSION:2.0
CALSCALE:GREGORIAN
BEGIN:VEVENT
UID:17a799ec733d0b2f86494aef6bc7b148
DTSTAMP:20260420T122917Z
SUMMARY:Marché de Noël de SCIEZ sur LEMAM
DESCRIPTION:
URL:https://rotary-thonon-leman.org/en/agenda/show/53206
DTSTART;TZID=Europe/Zurich:20251213T150000
DTEND;TZID=Europe/Zurich:20251214T120000
LOCATION:Place du Marché de SCIEZ
CATEGORIES:Rotary
END:VEVENT
BEGIN:VTIMEZONE
TZID:Europe/Zurich
BEGIN:STANDARD
DTSTART:20251213T150000
TZNAME:CET
TZOFFSETTO:+0100
TZOFFSETFROM:+0100
END:STANDARD
END:VTIMEZONE
END:VCALENDAR
