BEGIN:VCALENDAR
PRODID:-//eluceo/ical//2.0/EN
VERSION:2.0
CALSCALE:GREGORIAN
BEGIN:VEVENT
UID:70ae71cc30363914079394c980710d8d
DTSTAMP:20260420T141557Z
SUMMARY:Marché de Noël Espace du Lac ANTHY sur LEMAN
DESCRIPTION:
URL:https://rotary-thonon-leman.org/en/agenda/show/53203
DTSTART;TZID=Europe/Zurich:20251207T090000
DTEND;TZID=Europe/Zurich:20251207T190000
LOCATION:Espace du Lac ANTHY sur LEMAN
CATEGORIES:Rotary
END:VEVENT
BEGIN:VTIMEZONE
TZID:Europe/Zurich
BEGIN:STANDARD
DTSTART:20251207T090000
TZNAME:CET
TZOFFSETTO:+0100
TZOFFSETFROM:+0100
END:STANDARD
END:VTIMEZONE
END:VCALENDAR
