BEGIN:VCALENDAR
PRODID:-//eluceo/ical//2.0/EN
VERSION:2.0
CALSCALE:GREGORIAN
BEGIN:VEVENT
UID:bc546bf7606f2b0dbca8e11fbf202202
DTSTAMP:20260420T093448Z
SUMMARY:Action Espoir en tête
DESCRIPTION:
URL:https://rotary-thonon-leman.org/de/agenda/show/54277
DTSTART;TZID=Europe/Zurich:20260313T190000
DTEND;TZID=Europe/Zurich:20260313T220000
LOCATION:CINE LEMAN 63\, Avenue de Sénévulaz 74200 THONON les BAINS 04 50
  70 00 09
CATEGORIES:Rotary
END:VEVENT
BEGIN:VTIMEZONE
TZID:Europe/Zurich
BEGIN:STANDARD
DTSTART:20260313T190000
TZNAME:CET
TZOFFSETTO:+0100
TZOFFSETFROM:+0100
END:STANDARD
END:VTIMEZONE
END:VCALENDAR
