BEGIN:VCALENDAR
PRODID:-//eluceo/ical//2.0/EN
VERSION:2.0
CALSCALE:GREGORIAN
BEGIN:VEVENT
UID:c22fd73f87095e2229f54dae6376f3d2
DTSTAMP:20260422T092800Z
SUMMARY:ACTION JETONS LE CANCER
DESCRIPTION:
URL:https://rotary-thonon-leman.org/de/agenda/show/54234
DTSTART;TZID=Europe/Zurich:20260207T090000
DTEND;TZID=Europe/Zurich:20260207T190000
LOCATION:Supermarché CARREFOUR 74200 MARGENCEL
CATEGORIES:Rotary
END:VEVENT
BEGIN:VTIMEZONE
TZID:Europe/Zurich
BEGIN:STANDARD
DTSTART:20260207T090000
TZNAME:CET
TZOFFSETTO:+0100
TZOFFSETFROM:+0100
END:STANDARD
END:VTIMEZONE
END:VCALENDAR
